Workbook
Name CategoríaPresupuesto: #REF!

Sheet Informe presupuesto mensual
B1: Presupuesto mensual
B3: INSTRUCCIONES: | C3: Esta plantilla te permitirá organizar tus finanzas familiares, con el fin de ordenar y distribuir de la mejor manera posible tus ingresos. 1- Incluí en el apartado "Ingreso mensual", todos los ingresos personales y/o familiares. En la casilla "Ingreso fijo" colocá el monto del salario o el principal ingreso del hogar. En la casilla "Otros ingresos" incluí el monto correspondiente a pago de horas extra, aguinaldo, salario escolar, trabajos ocacionales o ingresos por otros servicios. Ingreso previsto: es el ingreso que preveés obtener durante el mes. Ingreso real: es el ingreso que percibiste durante el mes. 2- Registrá todos los gastos en la hoja "Gastos mensuales", según la descripción del gasto. Al terminar de incluir los datos seleccioná "Actualizar datos" en la barra de herramientas. Gasto previsto: es el gasto que preveés obtener durante el mes. Gasto real: es el gasto que realizaste durante el mes. 3- Analizá el resultado obtenido y tomá las acciones necesarias. De esta manera asegurarás tu estabilidad financiera.
B6: Ingreso mensual
B10: INGRESO PREVISTO | C10: Ingreso fijo | F10: TOTAL
G11: =+D10+D12 -> 0
C12: Otros ingresos
B16: INGRESO REAL | C16: Ingreso fijo | F16: TOTAL
G17: =+D16+D18 -> 0
C18: Otros ingresos
B21: Gasto mensual | J21: Resumen de gastos mensuales
J24: Categoría | K24: Gasto previsto | L24: Gasto real | M24: Diferencia
B25: GASTO PREVISTO | D25: TOTAL | G25: =+SUM(DetallesPresupuesto[Gasto previsto]) -> 0 | J25: Alimentación | K25: =+SUMIFS(DetallesPresupuesto[Gasto previsto],DetallesPresupuesto[Categoría del gasto],'Informe presupuesto mensual'!J25) -> 0 | L25: =+SUMIFS(DetallesPresupuesto[Gasto real],DetallesPresupuesto[Categoría del gasto],'Informe presupuesto mensual'!J25) -> 2 | M25: =+L25-K25 -> 2
J26: Cuido | K26: =+SUMIFS(DetallesPresupuesto[Gasto previsto],DetallesPresupuesto[Categoría del gasto],'Informe presupuesto mensual'!J26) -> 0 | L26: =+SUMIFS(DetallesPresupuesto[Gasto real],DetallesPresupuesto[Categoría del gasto],'Informe presupuesto mensual'!J26) -> 1 | M26: =+L26-K26 -> 1
B27: GASTO REAL | D27: TOTAL | G27: =+SUM(DetallesPresupuesto[Gasto real]) -> 23 | J27: Cuidado personal | K27: =+SUMIFS(DetallesPresupuesto[Gasto previsto],DetallesPresupuesto[Categoría del gasto],'Informe presupuesto mensual'!J27) -> 0 | L27: =+SUMIFS(DetallesPresupuesto[Gasto real],DetallesPresupuesto[Categoría del gasto],'Informe presupuesto mensual'!J27) -> 2 | M27: =+L27-K27 -> 2
J28: Educación | K28: =+SUMIFS(DetallesPresupuesto[Gasto previsto],DetallesPresupuesto[Categoría del gasto],'Informe presupuesto mensual'!J28) -> 0 | L28: =+SUMIFS(DetallesPresupuesto[Gasto real],DetallesPresupuesto[Categoría del gasto],'Informe presupuesto mensual'!J28) -> 2 | M28: =+L28-K28 -> 2
J29: Entretenimiento | K29: =+SUMIFS(DetallesPresupuesto[Gasto previsto],DetallesPresupuesto[Categoría del gasto],'Informe presupuesto mensual'!J29) -> 0 | L29: =+SUMIFS(DetallesPresupuesto[Gasto real],DetallesPresupuesto[Categoría del gasto],'Informe presupuesto mensual'!J29) -> 1 | M29: =+L29-K29 -> 1
J30: Mascotas | K30: =+SUMIFS(DetallesPresupuesto[Gasto previsto],DetallesPresupuesto[Categoría del gasto],'Informe presupuesto mensual'!J30) -> 0 | L30: =+SUMIFS(DetallesPresupuesto[Gasto real],DetallesPresupuesto[Categoría del gasto],'Informe presupuesto mensual'!J30) -> 1 | M30: =+L30-K30 -> 1
B31: Disponible para ahorro | J31: Préstamos | K31: =+SUMIFS(DetallesPresupuesto[Gasto previsto],DetallesPresupuesto[Categoría del gasto],'Informe presupuesto mensual'!J31) -> 0 | L31: =+SUMIFS(DetallesPresupuesto[Gasto real],DetallesPresupuesto[Categoría del gasto],'Informe presupuesto mensual'!J31) -> 2 | M31: =+L31-K31 -> 2
J32: Regalos y donaciones | K32: =+SUMIFS(DetallesPresupuesto[Gasto previsto],DetallesPresupuesto[Categoría del gasto],'Informe presupuesto mensual'!J32) -> 0 | L32: =+SUMIFS(DetallesPresupuesto[Gasto real],DetallesPresupuesto[Categoría del gasto],'Informe presupuesto mensual'!J32) -> 1 | M32: =+L32-K32 -> 1
J33: Seguros | K33: =+SUMIFS(DetallesPresupuesto[Gasto previsto],DetallesPresupuesto[Categoría del gasto],'Informe presupuesto mensual'!J33) -> 0 | L33: =+SUMIFS(DetallesPresupuesto[Gasto real],DetallesPresupuesto[Categoría del gasto],'Informe presupuesto mensual'!J33) -> 2 | M33: =+L33-K33 -> 2
J34: Transporte | K34: =+SUMIFS(DetallesPresupuesto[Gasto previsto],DetallesPresupuesto[Categoría del gasto],'Informe presupuesto mensual'!J34) -> 0 | L34: =+SUMIFS(DetallesPresupuesto[Gasto real],DetallesPresupuesto[Categoría del gasto],'Informe presupuesto mensual'!J34) -> 4 | M34: =+L34-K34 -> 4
C35: TOTAL | D35: =+G17-G27 -> -23 | J35: Vivienda | K35: =+SUMIFS(DetallesPresupuesto[Gasto previsto],DetallesPresupuesto[Categoría del gasto],'Informe presupuesto mensual'!J35) -> 0 | L35: =+SUMIFS(DetallesPresupuesto[Gasto real],DetallesPresupuesto[Categoría del gasto],'Informe presupuesto mensual'!J35) -> 5 | M35: =+L35-K35 -> 5
J36: TOTAL | K36: =+SUM(K25:K35) -> 0 | L36: =+SUM(L25:L35) -> 23 | M36: =+SUM(M25:M35) -> 23

Sheet Gastos mensuales
B1: Gastos mensuales
B2: Descripción del gasto | C2: Categoría del gasto | D2: Gasto previsto | E2: Gasto real | F2: Diferencia
B3: Comidas fuera del hogar | C3: Alimentación | E3: 1 | F3: =DetallesPresupuesto[[#This Row],[Gasto previsto]]-DetallesPresupuesto[[#This Row],[Gasto real]] -> -1
B4: Comestibles | C4: Alimentación | E4: 1 | F4: =DetallesPresupuesto[[#This Row],[Gasto previsto]]-DetallesPresupuesto[[#This Row],[Gasto real]] -> -1
B5: Cuota condominal o mantenimiento | C5: Vivienda | E5: 1 | F5: =DetallesPresupuesto[[#This Row],[Gasto previsto]]-DetallesPresupuesto[[#This Row],[Gasto real]] -> -1
B6: Otros pagos de recibos | C6: Vivienda | F6: =DetallesPresupuesto[[#This Row],[Gasto previsto]]-DetallesPresupuesto[[#This Row],[Gasto real]] -> 0
B7: Pago impuestos municipales | C7: Vivienda | F7: =DetallesPresupuesto[[#This Row],[Gasto previsto]]-DetallesPresupuesto[[#This Row],[Gasto real]] -> 0
B8: Pago recibo agua | C8: Vivienda | E8: 1 | F8: =DetallesPresupuesto[[#This Row],[Gasto previsto]]-DetallesPresupuesto[[#This Row],[Gasto real]] -> -1
B9: Pago recibo celular | C9: Vivienda | F9: =DetallesPresupuesto[[#This Row],[Gasto previsto]]-DetallesPresupuesto[[#This Row],[Gasto real]] -> 0
B10: Pago recibo electricidad | C10: Vivienda | F10: =DetallesPresupuesto[[#This Row],[Gasto previsto]]-DetallesPresupuesto[[#This Row],[Gasto real]] -> 0
B11: Pago recibo internet | C11: Vivienda | F11: =DetallesPresupuesto[[#This Row],[Gasto previsto]]-DetallesPresupuesto[[#This Row],[Gasto real]] -> 0
B12: Pago recibo recolección de basura | C12: Vivienda | E12: 1 | F12: =DetallesPresupuesto[[#This Row],[Gasto previsto]]-DetallesPresupuesto[[#This Row],[Gasto real]] -> -1
B13: Pago recibo teléfono fijo | C13: Vivienda | F13: =DetallesPresupuesto[[#This Row],[Gasto previsto]]-DetallesPresupuesto[[#This Row],[Gasto real]] -> 0
B14: Pago recibo TV por cable o satélite | C14: Vivienda | E14: 1 | F14: =DetallesPresupuesto[[#This Row],[Gasto previsto]]-DetallesPresupuesto[[#This Row],[Gasto real]] -> -1
B15: Pago servicio de limpieza doméstica | C15: Vivienda | E15: 1 | F15: =DetallesPresupuesto[[#This Row],[Gasto previsto]]-DetallesPresupuesto[[#This Row],[Gasto real]] -> -1
B16: Reparaciones vivienda | C16: Vivienda | F16: =DetallesPresupuesto[[#This Row],[Gasto previsto]]-DetallesPresupuesto[[#This Row],[Gasto real]] -> 0
B17: Pago de otros préstamos | C17: Préstamos | E17: 1 | F17: =DetallesPresupuesto[[#This Row],[Gasto previsto]]-DetallesPresupuesto[[#This Row],[Gasto real]] -> -1
B18: Pago de vivienda (hipoteca o alquiler) | C18: Préstamos | E18: 1 | F18: =DetallesPresupuesto[[#This Row],[Gasto previsto]]-DetallesPresupuesto[[#This Row],[Gasto real]] -> -1
B19: Pago préstamo de vehículo | C19: Préstamos | F19: =DetallesPresupuesto[[#This Row],[Gasto previsto]]-DetallesPresupuesto[[#This Row],[Gasto real]] -> 0
B20: Gimnasio | C20: Cuidado personal | F20: =DetallesPresupuesto[[#This Row],[Gasto previsto]]-DetallesPresupuesto[[#This Row],[Gasto real]] -> 0
B21: Otros gastos de cuidado personal | C21: Cuidado personal | E21: 1 | F21: =DetallesPresupuesto[[#This Row],[Gasto previsto]]-DetallesPresupuesto[[#This Row],[Gasto real]] -> -1
B22: Peluquería y manicure | C22: Cuidado personal | F22: =DetallesPresupuesto[[#This Row],[Gasto previsto]]-DetallesPresupuesto[[#This Row],[Gasto real]] -> 0
B23: Ropa, zapatos y artículos personales | C23: Cuidado personal | E23: 1 | F23: =DetallesPresupuesto[[#This Row],[Gasto previsto]]-DetallesPresupuesto[[#This Row],[Gasto real]] -> -1
B24: Salud (médicos, medicamentos, etc) | C24: Cuidado personal | F24: =DetallesPresupuesto[[#This Row],[Gasto previsto]]-DetallesPresupuesto[[#This Row],[Gasto real]] -> 0
B25: Colegio | C25: Educación | E25: 1 | F25: =DetallesPresupuesto[[#This Row],[Gasto previsto]]-DetallesPresupuesto[[#This Row],[Gasto real]] -> -1
B26: Escuela | C26: Educación | E26: 1 | F26: =DetallesPresupuesto[[#This Row],[Gasto previsto]]-DetallesPresupuesto[[#This Row],[Gasto real]] -> -1
B27: Kinder | C27: Educación | F27: =DetallesPresupuesto[[#This Row],[Gasto previsto]]-DetallesPresupuesto[[#This Row],[Gasto real]] -> 0
B28: Universidad | C28: Educación | F28: =DetallesPresupuesto[[#This Row],[Gasto previsto]]-DetallesPresupuesto[[#This Row],[Gasto real]] -> 0
B29: Otros seguros | C29: Seguros | F29: =DetallesPresupuesto[[#This Row],[Gasto previsto]]-DetallesPresupuesto[[#This Row],[Gasto real]] -> 0
B30: Seguro casa | C30: Seguros | E30: 1 | F30: =DetallesPresupuesto[[#This Row],[Gasto previsto]]-DetallesPresupuesto[[#This Row],[Gasto real]] -> -1
B31: Seguro salud | C31: Seguros | E31: 1 | F31: =DetallesPresupuesto[[#This Row],[Gasto previsto]]-DetallesPresupuesto[[#This Row],[Gasto real]] -> -1
B32: Seguros vehículos | C32: Seguros | F32: =DetallesPresupuesto[[#This Row],[Gasto previsto]]-DetallesPresupuesto[[#This Row],[Gasto real]] -> 0
B33: Bus | C33: Transporte | F33: =DetallesPresupuesto[[#This Row],[Gasto previsto]]-DetallesPresupuesto[[#This Row],[Gasto real]] -> 0
B34: Buseta escolar | C34: Transporte | F34: =DetallesPresupuesto[[#This Row],[Gasto previsto]]-DetallesPresupuesto[[#This Row],[Gasto real]] -> 0
B35: Gasolina | C35: Transporte | E35: 1 | F35: =DetallesPresupuesto[[#This Row],[Gasto previsto]]-DetallesPresupuesto[[#This Row],[Gasto real]] -> -1
B36: Mantenimiento vehículo | C36: Transporte | F36: =DetallesPresupuesto[[#This Row],[Gasto previsto]]-DetallesPresupuesto[[#This Row],[Gasto real]] -> 0
B37: Otros gastos de transporte | C37: Transporte | E37: 1 | F37: =DetallesPresupuesto[[#This Row],[Gasto previsto]]-DetallesPresupuesto[[#This Row],[Gasto real]] -> -1
B38: Peajes | C38: Transporte | E38: 1 | F38: =DetallesPresupuesto[[#This Row],[Gasto previsto]]-DetallesPresupuesto[[#This Row],[Gasto real]] -> -1
B39: Taxi | C39: Transporte | E39: 1 | F39: =DetallesPresupuesto[[#This Row],[Gasto previsto]]-DetallesPresupuesto[[#This Row],[Gasto real]] -> -1
B40: Conciertos | C40: Entretenimiento | E40: 1 | F40: =DetallesPresupuesto[[#This Row],[Gasto previsto]]-DetallesPresupuesto[[#This Row],[Gasto real]] -> -1
...
